BEGIN:VCALENDAR
VERSION:2.0
PRODID:-//Tukios.com/
BEGIN:VEVENT
UID:989a07f6-7de7-427c-85ba-a8f94192cf27@www.manchestermemorialfh.com
DTSTAMP:20260423T161813Z
DTSTART:20260426T180000Z
DTEND:20260426T200000Z
SUMMARY:Viewing
DESCRIPTION:
URL:https://www.manchestermemorialfh.com/obituaries/joann-graziano
LOCATION:Manchester Memorial Funeral Home 28 Schoolhouse Road  Manchester 
	Township NJ 08759
GEO:39.9365185;-74.347244
END:VEVENT
END:VCALENDAR