BEGIN:VCALENDAR
VERSION:2.0
PRODID:-//Tukios.com/
BEGIN:VEVENT
UID:1389d321-e2fd-429b-82d0-0480098c024c@www.manchestermemorialfh.com
DTSTAMP:20260423T161320Z
DTSTART:20260426T230000Z
DTEND:20260427T010000Z
SUMMARY:Viewing
DESCRIPTION:
URL:https://www.manchestermemorialfh.com/obituaries/joann-graziano
LOCATION:Manchester Memorial Funeral Home 28 Schoolhouse Road  Manchester 
	Township NJ 08759
GEO:39.9365185;-74.347244
END:VEVENT
END:VCALENDAR