BEGIN:VCALENDAR
VERSION:2.0
PRODID:-//Tukios.com/
BEGIN:VEVENT
UID:d18abeba-8b80-44ec-b39a-2a0fadadf786@www.manchestermemorialfh.com
DTSTAMP:20260423T161512Z
DTSTART:20260427T144500Z
DTEND:20260427T154500Z
SUMMARY:Mass
DESCRIPTION:
URL:https://www.manchestermemorialfh.com/obituaries/joann-graziano
LOCATION:All Saints Chapel at Saint Elizabeth Ann Seton RC Church 30 
	Schoolhouse Road  Manchester Township NJ 08759
GEO:39.9361619;-74.3490121
END:VEVENT
END:VCALENDAR